BEGIN:VCALENDAR
VERSION:2.0
PRODID:-//DIOCESI DI ROMA - ECPv4.6.14.1//NONSGML v1.0//EN
CALSCALE:GREGORIAN
METHOD:PUBLISH
X-WR-CALNAME:DIOCESI DI ROMA
X-ORIGINAL-URL:https://www.diocesidiroma.it
X-WR-CALDESC:Eventi per DIOCESI DI ROMA
BEGIN:VEVENT
DTSTART;TZID=Europe/Rome:20180914T080000
DTEND;TZID=Europe/Rome:20180914T090000
DTSTAMP:20260421T024923
CREATED:20180907T100923Z
LAST-MODIFIED:20180907T100923Z
UID:4300-1536912000-1536915600@www.diocesidiroma.it
SUMMARY:Celebra la Messa per i dipendenti del Vicariato
DESCRIPTION:Alle ore 8 celebra la Messa per i dipendenti degli uffici del Vicariato.   \n
URL:https://www.diocesidiroma.it/event/celebra-la-messa-per-i-dipendenti-del-vicariato/
CATEGORIES:NON USARE --- Agenda del Vicario
END:VEVENT
END:VCALENDAR