BEGIN:VCALENDAR
VERSION:2.0
PRODID:-//DIOCESI DI ROMA - ECPv4.6.14.1//NONSGML v1.0//EN
CALSCALE:GREGORIAN
METHOD:PUBLISH
X-WR-CALNAME:DIOCESI DI ROMA
X-ORIGINAL-URL:https://www.diocesidiroma.it
X-WR-CALDESC:Eventi per DIOCESI DI ROMA
BEGIN:VEVENT
DTSTART;TZID=Europe/Rome:20210312T190000
DTEND;TZID=Europe/Rome:20210312T190000
DTSTAMP:20260421T062859
CREATED:20210305T094321Z
LAST-MODIFIED:20210305T094321Z
UID:14083-1615575600-1615575600@www.diocesidiroma.it
SUMMARY:Celebra la Messa presso il Monastero dei “Santi Quattro Coronati” in occasione del 457° anniversario della presenza delle Suore Agostiniane
DESCRIPTION:Celebra la Messa presso il Monastero dei “Santi Quattro Coronati” in occasione del 457° anniversario della presenza delle Suore Agostiniane. \n
URL:https://www.diocesidiroma.it/event/celebra-la-messa-presso-il-monastero-dei-santi-quattro-coronati-in-occasione-del-457-anniversario-della-presenza-delle-suore-agostiniane/
CATEGORIES:NON USARE --- Agenda del Vicario
END:VEVENT
END:VCALENDAR