BEGIN:VCALENDAR
VERSION:2.0
PRODID:-//DIOCESI DI ROMA - ECPv4.6.14.1//NONSGML v1.0//EN
CALSCALE:GREGORIAN
METHOD:PUBLISH
X-WR-CALNAME:DIOCESI DI ROMA
X-ORIGINAL-URL:https://www.diocesidiroma.it
X-WR-CALDESC:Eventi per DIOCESI DI ROMA
BEGIN:VEVENT
DTSTART;TZID=Europe/Rome:20190614T113000
DTEND;TZID=Europe/Rome:20190614T113000
DTSTAMP:20260421T011648
CREATED:20190607T094539Z
LAST-MODIFIED:20190607T094616Z
UID:7791-1560511800-1560511800@www.diocesidiroma.it
SUMMARY:Celebra la Messa presso la cappella del Pontificio Istituto di Studi Arabi e d’Islamistica in occasione della chiusura dell’anno accademico
DESCRIPTION:Celebra la Messa presso la cappella del Pontificio Istituto di Studi Arabi e d’Islamistica in occasione della chiusura dell’anno accademico.  \n
URL:https://www.diocesidiroma.it/event/celebra-la-messa-presso-la-cappella-del-pontificio-istituto-di-studi-arabi-e-dislamistica-in-occasione-della-chiusura-dellanno-accademico/
CATEGORIES:NON USARE --- Agenda del Vicario
END:VEVENT
END:VCALENDAR