BEGIN:VCALENDAR
VERSION:2.0
PRODID:-//DIOCESI DI ROMA - ECPv4.6.14.1//NONSGML v1.0//EN
CALSCALE:GREGORIAN
METHOD:PUBLISH
X-WR-CALNAME:DIOCESI DI ROMA
X-ORIGINAL-URL:https://www.diocesidiroma.it
X-WR-CALDESC:Eventi per DIOCESI DI ROMA
BEGIN:VEVENT
DTSTART;TZID=Europe/Rome:20200912T170000
DTEND;TZID=Europe/Rome:20200912T170000
DTSTAMP:20260424T214235
CREATED:20200904T082241Z
LAST-MODIFIED:20200904T082241Z
UID:11501-1599930000-1599930000@www.diocesidiroma.it
SUMMARY:Celebra la Messa presso la Cappella dell’Istituto della Vita Consacrata Apostole del Sacro Cuore di Gesù
DESCRIPTION:Celebra la Messa presso la Cappella dell’Istituto della Vita Consacrata Apostole del Sacro Cuore di Gesù.   \n
URL:https://www.diocesidiroma.it/event/celebra-la-messa-presso-la-cappella-dellistituto-della-vita-consacrata-apostole-del-sacro-cuore-di-gesu/
CATEGORIES:NON USARE --- Agenda del Vicario
END:VEVENT
END:VCALENDAR