BEGIN:VCALENDAR
VERSION:2.0
PRODID:-//DIOCESI DI ROMA - ECPv4.6.14.1//NONSGML v1.0//EN
CALSCALE:GREGORIAN
METHOD:PUBLISH
X-WR-CALNAME:DIOCESI DI ROMA
X-ORIGINAL-URL:https://www.diocesidiroma.it
X-WR-CALDESC:Eventi per DIOCESI DI ROMA
BEGIN:VEVENT
DTSTART;TZID=Europe/Rome:20211030T120000
DTEND;TZID=Europe/Rome:20211030T120000
DTSTAMP:20260421T044245
CREATED:20211022T105937Z
LAST-MODIFIED:20211022T105937Z
UID:18639-1635595200-1635595200@www.diocesidiroma.it
SUMMARY:Celebra la Messa presso la Casa dei Padri Passionisti al Celio in occasione dell’assemblea dei responsabili\, coordinatori regionali e diocesani della Conferenza Italiana Istituti Secolari
DESCRIPTION:Celebra la Messa presso la Casa dei Padri Passionisti al Celio in occasione dell’assemblea dei responsabili\, coordinatori regionali e diocesani della Conferenza Italiana Istituti Secolari. \n
URL:https://www.diocesidiroma.it/event/celebra-la-messa-presso-la-casa-dei-padri-passionisti-al-celio-in-occasione-dellassemblea-dei-responsabili-coordinatori-regionali-e-diocesani-della-conferenza-italiana-istituti-secolari/
CATEGORIES:NON USARE --- Agenda del Vicario
END:VEVENT
END:VCALENDAR