BEGIN:VCALENDAR
VERSION:2.0
PRODID:-//DIOCESI DI ROMA - ECPv4.6.14.1//NONSGML v1.0//EN
CALSCALE:GREGORIAN
METHOD:PUBLISH
X-WR-CALNAME:DIOCESI DI ROMA
X-ORIGINAL-URL:https://www.diocesidiroma.it
X-WR-CALDESC:Eventi per DIOCESI DI ROMA
BEGIN:VEVENT
DTSTART;TZID=Europe/Rome:20241213T190000
DTEND;TZID=Europe/Rome:20241213T190000
DTSTAMP:20260422T220134
CREATED:20241206T150920Z
LAST-MODIFIED:20241206T150920Z
UID:32418-1734116400-1734116400@www.diocesidiroma.it
SUMMARY:Celebra la Messa presso la parrocchia di Santa Lucia e consegna il mandato ai referenti Caritas per il settore Ovest
DESCRIPTION:Celebra la Messa presso la parrocchia di Santa Lucia e consegna il mandato ai referenti Caritas per il settore Ovest \n
URL:https://www.diocesidiroma.it/event/celebra-la-messa-presso-la-parrocchia-di-santa-lucia-e-consegna-il-mandato-ai-referenti-caritas-per-il-settore-ovest/
CATEGORIES:Vicario Generale
END:VEVENT
END:VCALENDAR