BEGIN:VCALENDAR
VERSION:2.0
PRODID:-//DIOCESI DI ROMA - ECPv4.6.14.1//NONSGML v1.0//EN
CALSCALE:GREGORIAN
METHOD:PUBLISH
X-WR-CALNAME:DIOCESI DI ROMA
X-ORIGINAL-URL:https://www.diocesidiroma.it
X-WR-CALDESC:Eventi per DIOCESI DI ROMA
BEGIN:VEVENT
DTSTART;TZID=Europe/Rome:20210628T110000
DTEND;TZID=Europe/Rome:20210628T110000
DTSTAMP:20260424T163519
CREATED:20210701T103548Z
LAST-MODIFIED:20210701T103600Z
UID:16753-1624878000-1624878000@www.diocesidiroma.it
SUMMARY:Celebra la Messa presso l’Istituto Religioso Femminile delle Figlie di Santa Maria di Leuca in occasione del rinnovo dei voti religiosi.
DESCRIPTION:Celebra la Messa presso l’Istituto Religioso Femminile delle Figlie di Santa Maria di Leuca in occasione del rinnovo dei voti religiosi.  \n
URL:https://www.diocesidiroma.it/event/celebra-la-messa-presso-listituto-religioso-femminile-delle-figlie-di-santa-maria-di-leuca-in-occasione-del-rinnovo-dei-voti-religiosi/
CATEGORIES:NON USARE --- Agenda del Vicario
END:VEVENT
END:VCALENDAR