BEGIN:VCALENDAR
VERSION:2.0
PRODID:-//DIOCESI DI ROMA - ECPv4.6.14.1//NONSGML v1.0//EN
CALSCALE:GREGORIAN
METHOD:PUBLISH
X-WR-CALNAME:DIOCESI DI ROMA
X-ORIGINAL-URL:https://www.diocesidiroma.it
X-WR-CALDESC:Eventi per DIOCESI DI ROMA
BEGIN:VEVENT
DTSTART;TZID=Europe/Rome:20190105T173000
DTEND;TZID=Europe/Rome:20190105T173000
DTSTAMP:20260422T015004
CREATED:20181221T095233Z
LAST-MODIFIED:20181221T095233Z
UID:5925-1546709400-1546709400@www.diocesidiroma.it
SUMMARY:Celebra la Messa presso l’Unione Santa Caterina da Siena delle Missionarie della Scuola in occasione del capitolo generale
DESCRIPTION:Celebra la Messa presso l’Unione Santa Caterina da Siena delle Missionarie della Scuola in occasione del capitolo generale.  \n
URL:https://www.diocesidiroma.it/event/celebra-la-messa-presso-lunione-santa-caterina-da-siena-delle-missionarie-della-scuola-in-occasione-del-capitolo-generale/
CATEGORIES:NON USARE --- Agenda del Vicario
END:VEVENT
END:VCALENDAR