BEGIN:VCALENDAR
VERSION:2.0
PRODID:-//DIOCESI DI ROMA - ECPv4.6.14.1//NONSGML v1.0//EN
CALSCALE:GREGORIAN
METHOD:PUBLISH
X-WR-CALNAME:DIOCESI DI ROMA
X-ORIGINAL-URL:https://www.diocesidiroma.it
X-WR-CALDESC:Eventi per DIOCESI DI ROMA
BEGIN:VEVENT
DTSTART;TZID=Europe/Rome:20200313T190000
DTEND;TZID=Europe/Rome:20200313T190000
DTSTAMP:20260421T110526
CREATED:20200313T162120Z
LAST-MODIFIED:20200313T162120Z
UID:10370-1584126000-1584126000@www.diocesidiroma.it
SUMMARY:Celebra la Messa senza la presenza di fedeli al Santuario del Divino Amore
DESCRIPTION:Celebra la Messa senza la presenza di fedeli al Santuario del Divino Amore \n
URL:https://www.diocesidiroma.it/event/celebra-la-messa-senza-la-presenza-di-fedeli-al-santuario-del-divino-amore/
CATEGORIES:NON USARE --- Agenda del Vicario
END:VEVENT
END:VCALENDAR