BEGIN:VCALENDAR
VERSION:2.0
PRODID:-//DIOCESI DI ROMA - ECPv4.6.14.1//NONSGML v1.0//EN
CALSCALE:GREGORIAN
METHOD:PUBLISH
X-WR-CALNAME:DIOCESI DI ROMA
X-ORIGINAL-URL:https://www.diocesidiroma.it
X-WR-CALDESC:Eventi per DIOCESI DI ROMA
BEGIN:VEVENT
DTSTART;TZID=Europe/Rome:20260211T160000
DTEND;TZID=Europe/Rome:20260211T160000
DTSTAMP:20260422T001050
CREATED:20260209T073338Z
LAST-MODIFIED:20260209T073338Z
UID:39818-1770825600-1770825600@www.diocesidiroma.it
SUMMARY:Celebra la S. Messa presso la parrocchia di Nostra Signora di Lourdes a Tor Marancia in occasione della XXXIV Giornata Mondiale del Malato
DESCRIPTION:Celebra la S. Messa presso la parrocchia di Nostra Signora di Lourdes a Tor Marancia in occasione della XXXIV Giornata Mondiale del Malato \n
URL:https://www.diocesidiroma.it/event/celebra-la-s-messa-presso-la-parrocchia-di-nostra-signora-di-lourdes-a-tor-marancia-in-occasione-della-xxxiv-giornata-mondiale-del-malato/
CATEGORIES:Vicario Generale
END:VEVENT
END:VCALENDAR