BEGIN:VCALENDAR
VERSION:2.0
PRODID:-//DIOCESI DI ROMA - ECPv4.6.14.1//NONSGML v1.0//EN
CALSCALE:GREGORIAN
METHOD:PUBLISH
X-WR-CALNAME:DIOCESI DI ROMA
X-ORIGINAL-URL:https://www.diocesidiroma.it
X-WR-CALDESC:Eventi per DIOCESI DI ROMA
BEGIN:VEVENT
DTSTART;TZID=Europe/Rome:20250103T183000
DTEND;TZID=Europe/Rome:20250103T183000
DTSTAMP:20260424T144448
CREATED:20241230T074150Z
LAST-MODIFIED:20241230T074150Z
UID:32881-1735929000-1735929000@www.diocesidiroma.it
SUMMARY:Celebra la Santa Messa per l’UCIM
DESCRIPTION:Celebra la Santa Messa per l’UCIM \n
URL:https://www.diocesidiroma.it/event/celebra-la-santa-messa-per-lucim/
CATEGORIES:Vicario Generale
END:VEVENT
END:VCALENDAR