BEGIN:VCALENDAR
VERSION:2.0
PRODID:-//DIOCESI DI ROMA - ECPv4.6.14.1//NONSGML v1.0//EN
CALSCALE:GREGORIAN
METHOD:PUBLISH
X-WR-CALNAME:DIOCESI DI ROMA
X-ORIGINAL-URL:https://www.diocesidiroma.it
X-WR-CALDESC:Eventi per DIOCESI DI ROMA
BEGIN:VEVENT
DTSTART;TZID=Europe/Rome:20180930T110000
DTEND;TZID=Europe/Rome:20180930T110000
DTSTAMP:20260422T070439
CREATED:20180921T131347Z
LAST-MODIFIED:20180921T131347Z
UID:4739-1538305200-1538305200@www.diocesidiroma.it
SUMMARY:Celebra Messa a San Tommaso d'Aquino
DESCRIPTION:Celebra la Messa nella Parrocchia San Tommaso d’Aquino in occasione del 30° anniversario della dedicazione della Chiesa. \n
URL:https://www.diocesidiroma.it/event/celebra-messa-a-san-tommaso-daquino/
CATEGORIES:NON USARE --- Agenda del Vicario
END:VEVENT
END:VCALENDAR