BEGIN:VCALENDAR
VERSION:2.0
PRODID:-//DIOCESI DI ROMA - ECPv4.6.14.1//NONSGML v1.0//EN
CALSCALE:GREGORIAN
METHOD:PUBLISH
X-WR-CALNAME:DIOCESI DI ROMA
X-ORIGINAL-URL:https://www.diocesidiroma.it
X-WR-CALDESC:Eventi per DIOCESI DI ROMA
BEGIN:VEVENT
DTSTART;TZID=Europe/Rome:20190530T190000
DTEND;TZID=Europe/Rome:20190530T190000
DTSTAMP:20260423T225725
CREATED:20190527T093859Z
LAST-MODIFIED:20190527T110421Z
UID:7669-1559242800-1559242800@www.diocesidiroma.it
SUMMARY:Celebra Messa per il 125mo anniversario della Apostole del Sacro Cuore di Gesù
DESCRIPTION:Alle 19 celebra la Messa nella chiesa annessa di Santa Margherita Maria Alacoque in occasione del 125° anniversario della Fondazione delle Apostole del Sacro Cuore di Gesù. \n
URL:https://www.diocesidiroma.it/event/celebra-messa-a-santa-croce-in-gerusalemme/
CATEGORIES:NON USARE --- Agenda del Vicario
END:VEVENT
END:VCALENDAR