BEGIN:VCALENDAR
VERSION:2.0
PRODID:-//DIOCESI DI ROMA - ECPv4.6.14.1//NONSGML v1.0//EN
CALSCALE:GREGORIAN
METHOD:PUBLISH
X-WR-CALNAME:DIOCESI DI ROMA
X-ORIGINAL-URL:https://www.diocesidiroma.it
X-WR-CALDESC:Eventi per DIOCESI DI ROMA
BEGIN:VEVENT
DTSTART;TZID=Europe/Rome:20190601T183000
DTEND;TZID=Europe/Rome:20190601T183000
DTSTAMP:20260421T221028
CREATED:20190527T094324Z
LAST-MODIFIED:20190527T094324Z
UID:7674-1559413800-1559413800@www.diocesidiroma.it
SUMMARY:Celebra Messa a Santa Maria Mater Dei
DESCRIPTION:Alle 18.30 celebra la Messa nella Parrocchia Mater Dei in occasione del 65° anniversario del voto della Madonnina di Monte Mario. \n
URL:https://www.diocesidiroma.it/event/celebra-messa-a-santa-maria-mater-dei/
CATEGORIES:NON USARE --- Agenda del Vicario
END:VEVENT
END:VCALENDAR