BEGIN:VCALENDAR
VERSION:2.0
PRODID:-//DIOCESI DI ROMA - ECPv4.6.14.1//NONSGML v1.0//EN
CALSCALE:GREGORIAN
METHOD:PUBLISH
X-WR-CALNAME:DIOCESI DI ROMA
X-ORIGINAL-URL:https://www.diocesidiroma.it
X-WR-CALDESC:Eventi per DIOCESI DI ROMA
BEGIN:VEVENT
DTSTART;TZID=Europe/Rome:20190602T110000
DTEND;TZID=Europe/Rome:20190602T120000
DTSTAMP:20260421T192127
CREATED:20190527T094439Z
LAST-MODIFIED:20190527T094439Z
UID:7677-1559473200-1559476800@www.diocesidiroma.it
SUMMARY:Celebra Messa ai Santi Marcellino e Pietro
DESCRIPTION:Alle 11 celebra la Messa nella Parrocchia Santi Marcellino e Pietro al Laterano in occasione della festa patronale. \n
URL:https://www.diocesidiroma.it/event/celebra-messa-ai-santi-marcellino-e-pietro/
CATEGORIES:NON USARE --- Agenda del Vicario
END:VEVENT
END:VCALENDAR