BEGIN:VCALENDAR
VERSION:2.0
PRODID:-//DIOCESI DI ROMA - ECPv4.6.14.1//NONSGML v1.0//EN
CALSCALE:GREGORIAN
METHOD:PUBLISH
X-WR-CALNAME:DIOCESI DI ROMA
X-ORIGINAL-URL:https://www.diocesidiroma.it
X-WR-CALDESC:Eventi per DIOCESI DI ROMA
BEGIN:VEVENT
DTSTART;TZID=Europe/Rome:20240318T180000
DTEND;TZID=Europe/Rome:20240318T190000
DTSTAMP:20260422T183157
CREATED:20240229T095113Z
LAST-MODIFIED:20240229T095156Z
UID:29054-1710784800-1710788400@www.diocesidiroma.it
SUMMARY:Celebra la Messa al Divino Amore in occasione della Giornata in memoria delle vittime Covid
DESCRIPTION:Celebra la Messa al Divino Amore nella Giornata in memoria delle vittime Covid. \n
URL:https://www.diocesidiroma.it/event/celebra-messa-al-divino-amore-nella-giornata-in-memoria-delle-vittime-covid/
CATEGORIES:NON USARE --- Agenda del Vicario
END:VEVENT
END:VCALENDAR