BEGIN:VCALENDAR
VERSION:2.0
PRODID:-//DIOCESI DI ROMA - ECPv4.6.14.1//NONSGML v1.0//EN
CALSCALE:GREGORIAN
METHOD:PUBLISH
X-WR-CALNAME:DIOCESI DI ROMA
X-ORIGINAL-URL:https://www.diocesidiroma.it
X-WR-CALDESC:Eventi per DIOCESI DI ROMA
BEGIN:VEVENT
DTSTART;TZID=Europe/Rome:20250603T120000
DTEND;TZID=Europe/Rome:20250603T120000
DTSTAMP:20260423T220802
CREATED:20250530T091120Z
LAST-MODIFIED:20250530T091120Z
UID:35880-1748952000-1748952000@www.diocesidiroma.it
SUMMARY:Celebra nella Cappella della Madonna della Fiducia per i presbiteri che ricordano il XXX anno di ordinazione
DESCRIPTION:Celebra nella Cappella della Madonna della Fiducia per i presbiteri che ricordano il XXX anno di ordinazione \n
URL:https://www.diocesidiroma.it/event/celebra-nella-cappella-della-madonna-della-fiducia-per-i-presbiteri-che-ricordano-il-xxx-anno-di-ordinazione/
CATEGORIES:Vicario Generale
END:VEVENT
END:VCALENDAR