BEGIN:VCALENDAR
VERSION:2.0
PRODID:-//DIOCESI DI ROMA - ECPv4.6.14.1//NONSGML v1.0//EN
CALSCALE:GREGORIAN
METHOD:PUBLISH
X-WR-CALNAME:DIOCESI DI ROMA
X-ORIGINAL-URL:https://www.diocesidiroma.it
X-WR-CALDESC:Eventi per DIOCESI DI ROMA
BEGIN:VEVENT
DTSTART;TZID=Europe/Rome:20220412T160000
DTEND;TZID=Europe/Rome:20220412T160000
DTSTAMP:20260421T165216
CREATED:20220408T102545Z
LAST-MODIFIED:20220408T103101Z
UID:21060-1649779200-1649779200@www.diocesidiroma.it
SUMMARY:Celebra la Messa nella chiesa rettoria Santa Maria del Terzo Millennio alle Tre Fontane
DESCRIPTION:Celebra la Messa nella chiesa rettoria Santa Maria del Terzo Millennio alle Tre Fontane. \n
URL:https://www.diocesidiroma.it/event/celebra-nella-chiesa-rettoria-santa-maria-del-terzo-millennio-alle-tre-fontane/
CATEGORIES:NON USARE --- Agenda del Vicario
END:VEVENT
END:VCALENDAR