BEGIN:VCALENDAR
VERSION:2.0
PRODID:-//DIOCESI DI ROMA - ECPv4.6.14.1//NONSGML v1.0//EN
CALSCALE:GREGORIAN
METHOD:PUBLISH
X-WR-CALNAME:DIOCESI DI ROMA
X-ORIGINAL-URL:https://www.diocesidiroma.it
X-WR-CALDESC:Eventi per DIOCESI DI ROMA
BEGIN:VEVENT
DTSTART;TZID=Europe/Rome:20250912T183000
DTEND;TZID=Europe/Rome:20250912T183000
DTSTAMP:20260424T180939
CREATED:20250905T082427Z
LAST-MODIFIED:20250905T082427Z
UID:36760-1757701800-1757701800@www.diocesidiroma.it
SUMMARY:Celebra nella rettoria del Santissimo Nome di Maria al Foro Traiano
DESCRIPTION:Celebra nella rettoria del Santissimo Nome di Maria al Foro Traiano \n
URL:https://www.diocesidiroma.it/event/celebra-nella-rettoria-del-santissimo-nome-di-maria-al-foro-traiano/
CATEGORIES:Vicario Generale
END:VEVENT
END:VCALENDAR