BEGIN:VCALENDAR
VERSION:2.0
PRODID:-//DIOCESI DI ROMA - ECPv4.6.14.1//NONSGML v1.0//EN
CALSCALE:GREGORIAN
METHOD:PUBLISH
X-WR-CALNAME:DIOCESI DI ROMA
X-ORIGINAL-URL:https://www.diocesidiroma.it
X-WR-CALDESC:Eventi per DIOCESI DI ROMA
BEGIN:VEVENT
DTSTART;TZID=Europe/Rome:20260110T110000
DTEND;TZID=Europe/Rome:20260110T110000
DTSTAMP:20260422T101311
CREATED:20251227T091313Z
LAST-MODIFIED:20251227T091313Z
UID:39283-1768042800-1768042800@www.diocesidiroma.it
SUMMARY:Celebra presso la chiesa di Sant’Antonio dei Portoghesi
DESCRIPTION:Celebra presso la chiesa di Sant’Antonio dei Portoghesi \n
URL:https://www.diocesidiroma.it/event/celebra-presso-la-chiesa-di-santantonio-dei-portoghesi/
CATEGORIES:Vicario Generale
END:VEVENT
END:VCALENDAR