BEGIN:VCALENDAR
VERSION:2.0
PRODID:-//DIOCESI DI ROMA - ECPv4.6.14.1//NONSGML v1.0//EN
CALSCALE:GREGORIAN
METHOD:PUBLISH
X-WR-CALNAME:DIOCESI DI ROMA
X-ORIGINAL-URL:https://www.diocesidiroma.it
X-WR-CALDESC:Eventi per DIOCESI DI ROMA
BEGIN:VEVENT
DTSTART;TZID=Europe/Rome:20250101T190000
DTEND;TZID=Europe/Rome:20250101T190000
DTSTAMP:20260425T022010
CREATED:20241230T073654Z
LAST-MODIFIED:20241230T073654Z
UID:32873-1735758000-1735758000@www.diocesidiroma.it
SUMMARY:Celebra presso la parrocchia della Gran Madre di Dio
DESCRIPTION:Celebra presso la parrocchia della Gran Madre di Dio \n
URL:https://www.diocesidiroma.it/event/celebra-presso-la-parrocchia-della-gran-madre-di-dio/
CATEGORIES:Vicario Generale
END:VEVENT
END:VCALENDAR