BEGIN:VCALENDAR
VERSION:2.0
PRODID:-//DIOCESI DI ROMA - ECPv4.6.14.1//NONSGML v1.0//EN
CALSCALE:GREGORIAN
METHOD:PUBLISH
X-WR-CALNAME:DIOCESI DI ROMA
X-ORIGINAL-URL:https://www.diocesidiroma.it
X-WR-CALDESC:Eventi per DIOCESI DI ROMA
BEGIN:VEVENT
DTSTART;TZID=Europe/Rome:20250119T110000
DTEND;TZID=Europe/Rome:20250119T110000
DTSTAMP:20260425T022003
CREATED:20250110T112156Z
LAST-MODIFIED:20250110T112156Z
UID:33187-1737284400-1737284400@www.diocesidiroma.it
SUMMARY:Celebra presso la parrocchia Santi Urbano e Lorenzo a Prima Porta
DESCRIPTION:Celebra presso la parrocchia Santi Urbano e Lorenzo a Prima Porta \n
URL:https://www.diocesidiroma.it/event/celebra-presso-la-parrocchia-santi-urbano-e-lorenzo-a-prima-porta/
CATEGORIES:Vicario Generale
END:VEVENT
END:VCALENDAR