BEGIN:VCALENDAR
VERSION:2.0
PRODID:-//DIOCESI DI ROMA - ECPv4.6.14.1//NONSGML v1.0//EN
CALSCALE:GREGORIAN
METHOD:PUBLISH
X-WR-CALNAME:DIOCESI DI ROMA
X-ORIGINAL-URL:https://www.diocesidiroma.it
X-WR-CALDESC:Eventi per DIOCESI DI ROMA
BEGIN:VEVENT
DTSTART;VALUE=DATE:20171106
DTEND;VALUE=DATE:20171107
DTSTAMP:20260424T131434
CREATED:20171228T114347Z
LAST-MODIFIED:20171228T114347Z
UID:387-1509926400-1510012799@www.diocesidiroma.it
SUMMARY:Celebrazione a S. Maria del Buon Consiglio
DESCRIPTION:
URL:https://www.diocesidiroma.it/event/celebrazione-a-s-maria-del-buon-consiglio/
CATEGORIES:Iniziative degli Uffici
END:VEVENT
END:VCALENDAR