BEGIN:VCALENDAR
VERSION:2.0
PRODID:-//DIOCESI DI ROMA - ECPv4.6.14.1//NONSGML v1.0//EN
CALSCALE:GREGORIAN
METHOD:PUBLISH
X-WR-CALNAME:DIOCESI DI ROMA
X-ORIGINAL-URL:https://www.diocesidiroma.it
X-WR-CALDESC:Eventi per DIOCESI DI ROMA
BEGIN:VEVENT
DTSTART;VALUE=DATE:20251205
DTEND;VALUE=DATE:20251206
DTSTAMP:20260422T030818
CREATED:20250911T061800Z
LAST-MODIFIED:20250911T061800Z
UID:37043-1764892800-1764979199@www.diocesidiroma.it
SUMMARY:Celebrazione anniversario del ventennale del servizio "Ferite invisibili" (Uff. Caritas)
DESCRIPTION:Celebrazione anniversario del ventennale del servizio “Ferite invisibili” (Uff. Caritas) \n
URL:https://www.diocesidiroma.it/event/celebrazione-anniversario-del-ventennale-del-servizio-ferite-invisibili-uff-caritas/
CATEGORIES:In Diocesi,Iniziative degli Uffici
END:VEVENT
END:VCALENDAR