BEGIN:VCALENDAR
VERSION:2.0
PRODID:-//DIOCESI DI ROMA - ECPv4.6.14.1//NONSGML v1.0//EN
CALSCALE:GREGORIAN
METHOD:PUBLISH
X-WR-CALNAME:DIOCESI DI ROMA
X-ORIGINAL-URL:https://www.diocesidiroma.it
X-WR-CALDESC:Eventi per DIOCESI DI ROMA
BEGIN:VEVENT
DTSTART;TZID=Europe/Rome:20250406T160000
DTEND;TZID=Europe/Rome:20250406T160000
DTSTAMP:20260423T201705
CREATED:20250102T095525Z
LAST-MODIFIED:20250102T095525Z
UID:33039-1743955200-1743955200@www.diocesidiroma.it
SUMMARY:Celebrazione del III Scrutinio e consegna del Padre Nostro - Basilica di San Giovanni in Laterano
DESCRIPTION:Celebrazione del III Scrutinio e consegna del Padre Nostro – Basilica di San Giovanni\nin Laterano ore 16.00 \n
URL:https://www.diocesidiroma.it/event/celebrazione-del-iii-scrutinio-e-consegna-del-padre-nostro-basilica-di-san-giovanni-in-laterano-3/
CATEGORIES:In Diocesi
END:VEVENT
END:VCALENDAR