BEGIN:VCALENDAR
VERSION:2.0
PRODID:-//DIOCESI DI ROMA - ECPv4.6.14.1//NONSGML v1.0//EN
CALSCALE:GREGORIAN
METHOD:PUBLISH
X-WR-CALNAME:DIOCESI DI ROMA
X-ORIGINAL-URL:https://www.diocesidiroma.it
X-WR-CALDESC:Eventi per DIOCESI DI ROMA
BEGIN:VEVENT
DTSTART;TZID=Europe/Rome:20240407T170000
DTEND;TZID=Europe/Rome:20240407T170000
DTSTAMP:20260421T104501
CREATED:20240325T100311Z
LAST-MODIFIED:20240325T100311Z
UID:29298-1712509200-1712509200@www.diocesidiroma.it
SUMMARY:Celebrazione del Rito della Deposizione della veste bianca - Basilica di San Bartolomeo all'Isola
DESCRIPTION:Celebrazione del Rito della Deposizione della veste bianca – Basilica di San Bartolomeo all’Isola  \n
URL:https://www.diocesidiroma.it/event/celebrazione-del-rito-della-deposizione-della-veste-bianca-basilica-di-san-bartolomeo-allisola/
CATEGORIES:In Diocesi,Iniziative degli Uffici
END:VEVENT
END:VCALENDAR