BEGIN:VCALENDAR
VERSION:2.0
PRODID:-//DIOCESI DI ROMA - ECPv4.6.14.1//NONSGML v1.0//EN
CALSCALE:GREGORIAN
METHOD:PUBLISH
X-WR-CALNAME:DIOCESI DI ROMA
X-ORIGINAL-URL:https://www.diocesidiroma.it
X-WR-CALDESC:Eventi per DIOCESI DI ROMA
BEGIN:VEVENT
DTSTART;TZID=Europe/Rome:20230416T160000
DTEND;TZID=Europe/Rome:20230416T160000
DTSTAMP:20260421T104848
CREATED:20230330T100652Z
LAST-MODIFIED:20230330T100656Z
UID:25872-1681660800-1681660800@www.diocesidiroma.it
SUMMARY:Celebrazione del Rito della Deposizione delle vesti bianche - Chiesa di San Bartolomeo all'Isola
DESCRIPTION:Celebrazione del Rito della Deposizione delle vesti bianche – Chiesa di San Bartolomeo all’Isola \n
URL:https://www.diocesidiroma.it/event/celebrazione-del-rito-della-deposizione-delle-vesti-bianche-chiesa-di-san-bartolomeo-allisola/
CATEGORIES:In Diocesi
END:VEVENT
END:VCALENDAR