BEGIN:VCALENDAR
VERSION:2.0
PRODID:-//DIOCESI DI ROMA - ECPv4.6.14.1//NONSGML v1.0//EN
CALSCALE:GREGORIAN
METHOD:PUBLISH
X-WR-CALNAME:DIOCESI DI ROMA
X-ORIGINAL-URL:https://www.diocesidiroma.it
X-WR-CALDESC:Eventi per DIOCESI DI ROMA
BEGIN:VEVENT
DTSTART;TZID=Europe/Rome:20190210T000000
DTEND;TZID=Europe/Rome:20190210T000000
DTSTAMP:20260421T053000
CREATED:20181010T070845Z
LAST-MODIFIED:20181010T070845Z
UID:4952-1549756800-1549756800@www.diocesidiroma.it
SUMMARY:Celebrazione della Giornata diocesana del malato e del pellegrino
DESCRIPTION:Celebrazione della Giornata diocesana del malato e del pellegrino\, nella basilica di San Giovanni in Laterano. \n
URL:https://www.diocesidiroma.it/event/celebrazione-della-giornata-diocesana-del-malato-e-del-pellegrino/
CATEGORIES:In Diocesi
END:VEVENT
END:VCALENDAR