BEGIN:VCALENDAR
VERSION:2.0
PRODID:-//DIOCESI DI ROMA - ECPv4.6.14.1//NONSGML v1.0//EN
CALSCALE:GREGORIAN
METHOD:PUBLISH
X-WR-CALNAME:DIOCESI DI ROMA
X-ORIGINAL-URL:https://www.diocesidiroma.it
X-WR-CALDESC:Eventi per DIOCESI DI ROMA
BEGIN:VEVENT
DTSTART;VALUE=DATE:20180311
DTEND;VALUE=DATE:20180312
DTSTAMP:20260424T224949
CREATED:20171228T133705Z
LAST-MODIFIED:20171228T133705Z
UID:600-1520726400-1520812799@www.diocesidiroma.it
SUMMARY:Celebrazione della “Statio quaresimale”
DESCRIPTION:
URL:https://www.diocesidiroma.it/event/celebrazione-della-statio-quaresimale/
CATEGORIES:Iniziative degli Uffici
END:VEVENT
END:VCALENDAR