BEGIN:VCALENDAR
VERSION:2.0
PRODID:-//DIOCESI DI ROMA - ECPv4.6.14.1//NONSGML v1.0//EN
CALSCALE:GREGORIAN
METHOD:PUBLISH
X-WR-CALNAME:DIOCESI DI ROMA
X-ORIGINAL-URL:https://www.diocesidiroma.it
X-WR-CALDESC:Eventi per DIOCESI DI ROMA
BEGIN:VEVENT
DTSTART;TZID=Europe/Rome:20191104T000000
DTEND;TZID=Europe/Rome:20191104T000000
DTSTAMP:20260423T023339
CREATED:20190917T083615Z
LAST-MODIFIED:20190917T083615Z
UID:8455-1572825600-1572825600@www.diocesidiroma.it
SUMMARY:Celebrazione di inizio anno sociale per il Cor
DESCRIPTION:Celebrazione di inizio anno sociale per il Cor\, a memoria di Arnaldo Canepa\, nella parrocchia di Santa Maria del Buon Consiglio. \n
URL:https://www.diocesidiroma.it/event/celebrazione-di-inizio-anno-sociale-per-il-cor/
CATEGORIES:Iniziative degli Uffici
END:VEVENT
END:VCALENDAR