BEGIN:VCALENDAR
VERSION:2.0
PRODID:-//DIOCESI DI ROMA - ECPv4.6.14.1//NONSGML v1.0//EN
CALSCALE:GREGORIAN
METHOD:PUBLISH
X-WR-CALNAME:DIOCESI DI ROMA
X-ORIGINAL-URL:https://www.diocesidiroma.it
X-WR-CALDESC:Eventi per DIOCESI DI ROMA
BEGIN:VEVENT
DTSTART;TZID=Europe/Rome:20201208T090000
DTEND;TZID=Europe/Rome:20201208T090000
DTSTAMP:20260423T220615
CREATED:20201012T105412Z
LAST-MODIFIED:20201012T105417Z
UID:12096-1607418000-1607418000@www.diocesidiroma.it
SUMMARY:Celebrazione eucaristica dedicata al mondo del lavoro e delle aggregazioni laicali
DESCRIPTION:Celebrazione eucaristica dedicata al mondo del lavoro e delle aggregazioni laicali nella chiesa della Santissima Trinità dei Monti\, a cura del Servizio per la pastorale sociale. \n
URL:https://www.diocesidiroma.it/event/celebrazione-eucaristica-dedicata-al-mondo-del-lavoro-e-delle-aggregazioni-laicali/
CATEGORIES:Iniziative degli Uffici
END:VEVENT
END:VCALENDAR