BEGIN:VCALENDAR
VERSION:2.0
PRODID:-//DIOCESI DI ROMA - ECPv4.6.14.1//NONSGML v1.0//EN
CALSCALE:GREGORIAN
METHOD:PUBLISH
X-WR-CALNAME:DIOCESI DI ROMA
X-ORIGINAL-URL:https://www.diocesidiroma.it
X-WR-CALDESC:Eventi per DIOCESI DI ROMA
BEGIN:VEVENT
DTSTART;TZID=Europe/Rome:20251231T190000
DTEND;TZID=Europe/Rome:20251231T190000
DTSTAMP:20260422T112254
CREATED:20251227T085717Z
LAST-MODIFIED:20251227T085717Z
UID:39251-1767207600-1767207600@www.diocesidiroma.it
SUMMARY:Celebrazione Eucaristica e canto del Te Deum presso la Chiesa del Gesù
DESCRIPTION:Celebrazione Eucaristica e canto del Te Deum presso la Chiesa del Gesù \n
URL:https://www.diocesidiroma.it/event/celebrazione-eucaristica-e-canto-del-te-deum-presso-la-chiesa-del-gesu/
CATEGORIES:Vicario Generale
END:VEVENT
END:VCALENDAR