BEGIN:VCALENDAR
VERSION:2.0
PRODID:-//DIOCESI DI ROMA - ECPv4.6.14.1//NONSGML v1.0//EN
CALSCALE:GREGORIAN
METHOD:PUBLISH
X-WR-CALNAME:DIOCESI DI ROMA
X-ORIGINAL-URL:https://www.diocesidiroma.it
X-WR-CALDESC:Eventi per DIOCESI DI ROMA
BEGIN:VEVENT
DTSTART;TZID=Europe/Rome:20201017T093000
DTEND;TZID=Europe/Rome:20201017T093000
DTSTAMP:20260421T043421
CREATED:20200917T081747Z
LAST-MODIFIED:20200917T082010Z
UID:11669-1602927000-1602927000@www.diocesidiroma.it
SUMMARY:Celebrazione eucaristica per il personale medico presieduta dal cardinale vicario a San Giovanni in Laterano
DESCRIPTION:Celebrazione eucaristica per il personale medico presieduta dal cardinale vicario a San Giovanni in Laterano \n
URL:https://www.diocesidiroma.it/event/celebrazione-eucaristica-per-il-personale-medico-presieduta-dal-cardinale-vicario-a-san-giovanni-in-laterano/
CATEGORIES:In Diocesi
END:VEVENT
END:VCALENDAR