BEGIN:VCALENDAR
VERSION:2.0
PRODID:-//DIOCESI DI ROMA - ECPv4.6.14.1//NONSGML v1.0//EN
CALSCALE:GREGORIAN
METHOD:PUBLISH
X-WR-CALNAME:DIOCESI DI ROMA
X-ORIGINAL-URL:https://www.diocesidiroma.it
X-WR-CALDESC:Eventi per DIOCESI DI ROMA
BEGIN:VEVENT
DTSTART;VALUE=DATE:20250510
DTEND;VALUE=DATE:20250511
DTSTAMP:20260424T145502
CREATED:20250224T120443Z
LAST-MODIFIED:20250325T071654Z
UID:34131-1746835200-1746921599@www.diocesidiroma.it
SUMMARY:Giubileo Parrocchia S. Maria Addolorata - Basilica di Santa Maria Maggiore
DESCRIPTION: \n
URL:https://www.diocesidiroma.it/event/celebrazione-giubilare-parrocchia-s-maria-addolorata-3/
CATEGORIES:Iniziative Giubileo 25
END:VEVENT
END:VCALENDAR