BEGIN:VCALENDAR
VERSION:2.0
PRODID:-//DIOCESI DI ROMA - ECPv4.6.14.1//NONSGML v1.0//EN
CALSCALE:GREGORIAN
METHOD:PUBLISH
X-WR-CALNAME:DIOCESI DI ROMA
X-ORIGINAL-URL:https://www.diocesidiroma.it
X-WR-CALDESC:Eventi per DIOCESI DI ROMA
BEGIN:VEVENT
DTSTART;VALUE=DATE:20250329
DTEND;VALUE=DATE:20250330
DTSTAMP:20260421T003047
CREATED:20241203T150616Z
LAST-MODIFIED:20250324T091320Z
UID:32310-1743206400-1743292799@www.diocesidiroma.it
SUMMARY:Giubileo Parrocchia S. Maria della Visitazione - Basilica di San Giovanni in Laterano
DESCRIPTION:Basilica di San Giovanni in Laterano \nOre 17\,30 Celebrazione Giubilare Parrocchia S. Maria della Visitazione \n
URL:https://www.diocesidiroma.it/event/celebrazione-giubilare-parrocchia-s-maria-della-visitazione/
CATEGORIES:Iniziative Giubileo 25
END:VEVENT
END:VCALENDAR