BEGIN:VCALENDAR
VERSION:2.0
PRODID:-//DIOCESI DI ROMA - ECPv4.6.14.1//NONSGML v1.0//EN
CALSCALE:GREGORIAN
METHOD:PUBLISH
X-WR-CALNAME:DIOCESI DI ROMA
X-ORIGINAL-URL:https://www.diocesidiroma.it
X-WR-CALDESC:Eventi per DIOCESI DI ROMA
BEGIN:VEVENT
DTSTART;VALUE=DATE:20250301
DTEND;VALUE=DATE:20250302
DTSTAMP:20260422T172658
CREATED:20250207T093112Z
LAST-MODIFIED:20250319T072931Z
UID:33746-1740787200-1740873599@www.diocesidiroma.it
SUMMARY:Giubileo Parrocchia S. Maria Goretti
DESCRIPTION: \nBasilica di San Giovanni in Laterano \nOre 17:30 Celebrazione Giubilare Parrocchia S. Maria Goretti \n
URL:https://www.diocesidiroma.it/event/celebrazione-giubilare-parrocchia-s-maria-goretti/
CATEGORIES:Iniziative Giubileo 25
END:VEVENT
END:VCALENDAR