BEGIN:VCALENDAR
VERSION:2.0
PRODID:-//DIOCESI DI ROMA - ECPv4.6.14.1//NONSGML v1.0//EN
CALSCALE:GREGORIAN
METHOD:PUBLISH
X-WR-CALNAME:DIOCESI DI ROMA
X-ORIGINAL-URL:https://www.diocesidiroma.it
X-WR-CALDESC:Eventi per DIOCESI DI ROMA
BEGIN:VEVENT
DTSTART;TZID=Europe/Rome:20231105T000000
DTEND;TZID=Europe/Rome:20231105T000000
DTSTAMP:20260421T043017
CREATED:20231006T084154Z
LAST-MODIFIED:20231006T084154Z
UID:27513-1699142400-1699142400@www.diocesidiroma.it
SUMMARY:Celebrazione per l'apertura dell'anno sociale e per la memoria del Ven. Arnaldo Canepa (COR)
DESCRIPTION:Celebrazione per l’apertura dell’anno sociale e per la memoria del Ven. Arnaldo Canepa (COR) \n
URL:https://www.diocesidiroma.it/event/celebrazione-per-lapertura-dellanno-sociale-e-per-la-memoria-del-ven-arnaldo-canepa-cor/
CATEGORIES:In Diocesi
END:VEVENT
END:VCALENDAR