BEGIN:VCALENDAR
VERSION:2.0
PRODID:-//DIOCESI DI ROMA - ECPv4.6.14.1//NONSGML v1.0//EN
CALSCALE:GREGORIAN
METHOD:PUBLISH
X-WR-CALNAME:DIOCESI DI ROMA
X-ORIGINAL-URL:https://www.diocesidiroma.it
X-WR-CALDESC:Eventi per DIOCESI DI ROMA
BEGIN:VEVENT
DTSTART;TZID=Europe/Rome:20250214T110000
DTEND;TZID=Europe/Rome:20250214T110000
DTSTAMP:20260424T222228
CREATED:20250207T085602Z
LAST-MODIFIED:20250207T085602Z
UID:33736-1739530800-1739530800@www.diocesidiroma.it
SUMMARY:Cerimonia di inaugurazione dell'anno giudiziario della Corte dei Conti
DESCRIPTION:Cerimonia di inaugurazione dell’anno giudiziario della Corte dei Conti \n
URL:https://www.diocesidiroma.it/event/cerimonia-di-inaugurazione-dellanno-giudiziario-della-corte-dei-conti/
CATEGORIES:Vicario Generale
END:VEVENT
END:VCALENDAR