BEGIN:VCALENDAR
VERSION:2.0
PRODID:-//DIOCESI DI ROMA - ECPv4.6.14.1//NONSGML v1.0//EN
CALSCALE:GREGORIAN
METHOD:PUBLISH
X-WR-CALNAME:DIOCESI DI ROMA
X-ORIGINAL-URL:https://www.diocesidiroma.it
X-WR-CALDESC:Eventi per DIOCESI DI ROMA
BEGIN:VEVENT
DTSTART;TZID=Europe/Rome:20251017T180000
DTEND;TZID=Europe/Rome:20251017T180000
DTSTAMP:20260421T042546
CREATED:20251010T070113Z
LAST-MODIFIED:20251010T070113Z
UID:37744-1760724000-1760724000@www.diocesidiroma.it
SUMMARY:Chiesa Sant'Apollinare – Ordinazioni Diaconali in occasione del centenario della famiglia dei discepoli
DESCRIPTION:Chiesa Sant’Apollinare – Ordinazioni Diaconali in occasione del centenario della famiglia dei discepoli \n
URL:https://www.diocesidiroma.it/event/chiesa-santapollinare-ordinazioni-diaconali-in-occasione-del-centenario-della-famiglia-dei-discepoli/
CATEGORIES:Vicario Generale
END:VEVENT
END:VCALENDAR