BEGIN:VCALENDAR
VERSION:2.0
PRODID:-//DIOCESI DI ROMA - ECPv4.6.14.1//NONSGML v1.0//EN
CALSCALE:GREGORIAN
METHOD:PUBLISH
X-WR-CALNAME:DIOCESI DI ROMA
X-ORIGINAL-URL:https://www.diocesidiroma.it
X-WR-CALDESC:Eventi per DIOCESI DI ROMA
BEGIN:VEVENT
DTSTART;TZID=Europe/Rome:20250411T120000
DTEND;TZID=Europe/Rome:20250411T120000
DTSTAMP:20260422T193055
CREATED:20250404T094659Z
LAST-MODIFIED:20250404T100914Z
UID:34992-1744372800-1744372800@www.diocesidiroma.it
SUMMARY:Chiusura della fase diocesana della causa del Servo di Dio Giampaolo Mollo
DESCRIPTION:Chiusura della fase diocesana della causa del Servo di Dio Giampaolo Mollo \n
URL:https://www.diocesidiroma.it/event/chiusura-della-fase-diocesana-del-servo-di-dio-giampaolo-mollo/
CATEGORIES:Vicario Generale
END:VEVENT
END:VCALENDAR