BEGIN:VCALENDAR
VERSION:2.0
PRODID:-//DIOCESI DI ROMA - ECPv4.6.14.1//NONSGML v1.0//EN
CALSCALE:GREGORIAN
METHOD:PUBLISH
X-WR-CALNAME:DIOCESI DI ROMA
X-ORIGINAL-URL:https://www.diocesidiroma.it
X-WR-CALDESC:Eventi per DIOCESI DI ROMA
BEGIN:VEVENT
DTSTART;VALUE=DATE:20251228
DTEND;VALUE=DATE:20251229
DTSTAMP:20260421T182203
CREATED:20251204T075100Z
LAST-MODIFIED:20251204T090445Z
UID:38900-1766880000-1766966399@www.diocesidiroma.it
SUMMARY:Chiusura Porta Santa della Basilica di San Paolo Fuori le Mura e Santa Messa
DESCRIPTION:Chiusura Porta Santa della Basilica di San Paolo Fuori le Mura e Santa Messa \n \n
URL:https://www.diocesidiroma.it/event/chiusura-porta-santa-della-basilica-di-san-paolo-fuori-le-mura-e-santa-messa/
CATEGORIES:Iniziative Giubileo 25
END:VEVENT
END:VCALENDAR