BEGIN:VCALENDAR
VERSION:2.0
PRODID:-//DIOCESI DI ROMA - ECPv4.6.14.1//NONSGML v1.0//EN
CALSCALE:GREGORIAN
METHOD:PUBLISH
X-WR-CALNAME:DIOCESI DI ROMA
X-ORIGINAL-URL:https://www.diocesidiroma.it
X-WR-CALDESC:Eventi per DIOCESI DI ROMA
BEGIN:VEVENT
DTSTART;VALUE=DATE:20251225
DTEND;VALUE=DATE:20251226
DTSTAMP:20260421T210844
CREATED:20251204T074849Z
LAST-MODIFIED:20251204T081436Z
UID:38895-1766620800-1766707199@www.diocesidiroma.it
SUMMARY:Chiusura Porta Santa della Basilica di Santa Maria Maggiore e Santa Messa
DESCRIPTION:Chiusura Porta Santa della Basilica di Santa Maria Maggiore e Santa Messa \n \n  \n
URL:https://www.diocesidiroma.it/event/chiusura-porta-santa-della-basilica-di-santa-maria-maggiore-e-santa-messa/
CATEGORIES:Iniziative Giubileo 25
END:VEVENT
END:VCALENDAR