BEGIN:VCALENDAR
VERSION:2.0
PRODID:-//DIOCESI DI ROMA - ECPv4.6.14.1//NONSGML v1.0//EN
CALSCALE:GREGORIAN
METHOD:PUBLISH
X-WR-CALNAME:DIOCESI DI ROMA
X-ORIGINAL-URL:https://www.diocesidiroma.it
X-WR-CALDESC:Eventi per DIOCESI DI ROMA
BEGIN:VEVENT
DTSTART;TZID=Europe/Rome:20260227T120000
DTEND;TZID=Europe/Rome:20260227T133000
DTSTAMP:20260421T150732
CREATED:20260219T093552Z
LAST-MODIFIED:20260219T093552Z
UID:40060-1772193600-1772199000@www.diocesidiroma.it
SUMMARY:Collegio dei Consultori
DESCRIPTION:Collegio dei Consultori \n
URL:https://www.diocesidiroma.it/event/collegio-dei-consultori-6/
CATEGORIES:Vicario Generale
END:VEVENT
END:VCALENDAR