BEGIN:VCALENDAR
VERSION:2.0
PRODID:-//DIOCESI DI ROMA - ECPv4.6.14.1//NONSGML v1.0//EN
CALSCALE:GREGORIAN
METHOD:PUBLISH
X-WR-CALNAME:DIOCESI DI ROMA
X-ORIGINAL-URL:https://www.diocesidiroma.it
X-WR-CALDESC:Eventi per DIOCESI DI ROMA
BEGIN:VEVENT
DTSTART;TZID=Europe/Rome:20240317T000000
DTEND;TZID=Europe/Rome:20240317T000000
DTSTAMP:20260424T020436
CREATED:20240125T082357Z
LAST-MODIFIED:20240125T082357Z
UID:28683-1710633600-1710633600@www.diocesidiroma.it
SUMMARY:Colletta a sostegno delle opere diocesane di carità (Uff. Caritas)
DESCRIPTION: Colletta a sostegno delle opere diocesane di carità (Uff. Caritas) \n
URL:https://www.diocesidiroma.it/event/colletta-a-sostegno-delle-opere-diocesane-di-carita-uff-caritas/
CATEGORIES:Caritas
END:VEVENT
END:VCALENDAR