BEGIN:VCALENDAR
VERSION:2.0
PRODID:-//DIOCESI DI ROMA - ECPv4.6.14.1//NONSGML v1.0//EN
CALSCALE:GREGORIAN
METHOD:PUBLISH
X-WR-CALNAME:DIOCESI DI ROMA
X-ORIGINAL-URL:https://www.diocesidiroma.it
X-WR-CALDESC:Eventi per DIOCESI DI ROMA
BEGIN:VEVENT
DTSTART;VALUE=DATE:20260322
DTEND;VALUE=DATE:20260323
DTSTAMP:20260420T224258
CREATED:20251001T091743Z
LAST-MODIFIED:20251001T091818Z
UID:37535-1774137600-1774223999@www.diocesidiroma.it
SUMMARY:Colletta a sostegno opere diocesane di carità
DESCRIPTION:Colletta a sostegno opere diocesane di carità (Uff. Caritas) \n
URL:https://www.diocesidiroma.it/event/colletta-a-sostegno-opere-diocesane-di-carita/
CATEGORIES:Giornate di sensibilizzazione
END:VEVENT
END:VCALENDAR