BEGIN:VCALENDAR
VERSION:2.0
PRODID:-//DIOCESI DI ROMA - ECPv4.6.14.1//NONSGML v1.0//EN
CALSCALE:GREGORIAN
METHOD:PUBLISH
X-WR-CALNAME:DIOCESI DI ROMA
X-ORIGINAL-URL:https://www.diocesidiroma.it
X-WR-CALDESC:Eventi per DIOCESI DI ROMA
BEGIN:VEVENT
DTSTART;TZID=Europe/Rome:20241221T093000
DTEND;TZID=Europe/Rome:20241221T093000
DTSTAMP:20260424T125647
CREATED:20241216T080322Z
LAST-MODIFIED:20241216T080333Z
UID:32596-1734773400-1734773400@www.diocesidiroma.it
SUMMARY:Colloqui con alcuni sacerdoti
DESCRIPTION:Colloqui con alcuni sacerdoti \n
URL:https://www.diocesidiroma.it/event/colloqui-con-alcuni-sacerdoti/
CATEGORIES:Vicario Generale
END:VEVENT
END:VCALENDAR