BEGIN:VCALENDAR
VERSION:2.0
PRODID:-//DIOCESI DI ROMA - ECPv4.6.14.1//NONSGML v1.0//EN
CALSCALE:GREGORIAN
METHOD:PUBLISH
X-WR-CALNAME:DIOCESI DI ROMA
X-ORIGINAL-URL:https://www.diocesidiroma.it
X-WR-CALDESC:Eventi per DIOCESI DI ROMA
BEGIN:VEVENT
DTSTART;TZID=Europe/Rome:20250303T170000
DTEND;TZID=Europe/Rome:20250303T190000
DTSTAMP:20260421T222158
CREATED:20250228T121319Z
LAST-MODIFIED:20250228T121458Z
UID:34237-1741021200-1741028400@www.diocesidiroma.it
SUMMARY:Colloqui presso il Seminario Maggiore
DESCRIPTION:Colloqui presso il Seminario Maggiore \n
URL:https://www.diocesidiroma.it/event/colloqui-presso-il-seminario-maggiore/
CATEGORIES:Vicario Generale
END:VEVENT
END:VCALENDAR