BEGIN:VCALENDAR
VERSION:2.0
PRODID:-//DIOCESI DI ROMA - ECPv4.6.14.1//NONSGML v1.0//EN
CALSCALE:GREGORIAN
METHOD:PUBLISH
X-WR-CALNAME:DIOCESI DI ROMA
X-ORIGINAL-URL:https://www.diocesidiroma.it
X-WR-CALDESC:Eventi per DIOCESI DI ROMA
BEGIN:VEVENT
DTSTART;TZID=Europe/Rome:20260220T100000
DTEND;TZID=Europe/Rome:20260220T120000
DTSTAMP:20260422T113731
CREATED:20260213T083558Z
LAST-MODIFIED:20260213T083558Z
UID:39932-1771581600-1771588800@www.diocesidiroma.it
SUMMARY:Comitato di vigilanza del Pontificium Collegium Lateranense
DESCRIPTION:Comitato di vigilanza del Pontificium Collegium Lateranense \n
URL:https://www.diocesidiroma.it/event/comitato-di-vigilanza-del-pontificium-collegium-lateranense/
CATEGORIES:Vicario Generale
END:VEVENT
END:VCALENDAR