BEGIN:VCALENDAR
VERSION:2.0
PRODID:-//DIOCESI DI ROMA - ECPv4.6.14.1//NONSGML v1.0//EN
CALSCALE:GREGORIAN
METHOD:PUBLISH
X-WR-CALNAME:DIOCESI DI ROMA
X-ORIGINAL-URL:https://www.diocesidiroma.it
X-WR-CALDESC:Eventi per DIOCESI DI ROMA
BEGIN:VEVENT
DTSTART;VALUE=DATE:20251101
DTEND;VALUE=DATE:20251102
DTSTAMP:20260423T123057
CREATED:20250910T103908Z
LAST-MODIFIED:20250910T104638Z
UID:36850-1761955200-1762041599@www.diocesidiroma.it
SUMMARY:Commemorazione di tutti i fedeli defunti
DESCRIPTION:Commemorazione di tutti i fedeli defunti \n
URL:https://www.diocesidiroma.it/event/commemorazione-di-tutti-i-fedeli-defunti-4/
CATEGORIES:Celebrazioni del Santo Padre
END:VEVENT
END:VCALENDAR