BEGIN:VCALENDAR
VERSION:2.0
PRODID:-//DIOCESI DI ROMA - ECPv4.6.14.1//NONSGML v1.0//EN
CALSCALE:GREGORIAN
METHOD:PUBLISH
X-WR-CALNAME:DIOCESI DI ROMA
X-ORIGINAL-URL:https://www.diocesidiroma.it
X-WR-CALDESC:Eventi per DIOCESI DI ROMA
BEGIN:VEVENT
DTSTART;VALUE=DATE:20221102
DTEND;VALUE=DATE:20221103
DTSTAMP:20260425T164445
CREATED:20221013T112603Z
LAST-MODIFIED:20221013T112603Z
UID:23363-1667347200-1667433599@www.diocesidiroma.it
SUMMARY:COMMEMORAZIONE DI TUTTI I FEDELI DEFUNTI
DESCRIPTION:COMMEMORAZIONE DI TUTTI I FEDELI DEFUNTI \n
URL:https://www.diocesidiroma.it/event/commemorazione-di-tutti-i-fedeli-defunti/
CATEGORIES:In Diocesi,Ricorrenze
END:VEVENT
END:VCALENDAR